BEGIN:VCALENDAR
VERSION:2.0
PRODID:-//MOP Oullins - ECPv6.15.20//NONSGML v1.0//EN
CALSCALE:GREGORIAN
METHOD:PUBLISH
X-ORIGINAL-URL:https://mop-oullins.fr
X-WR-CALDESC:Évènements pour MOP Oullins
REFRESH-INTERVAL;VALUE=DURATION:PT1H
X-Robots-Tag:noindex
X-PUBLISHED-TTL:PT1H
BEGIN:VTIMEZONE
TZID:Europe/Paris
BEGIN:DAYLIGHT
TZOFFSETFROM:+0100
TZOFFSETTO:+0200
TZNAME:CEST
DTSTART:20250330T010000
END:DAYLIGHT
BEGIN:STANDARD
TZOFFSETFROM:+0200
TZOFFSETTO:+0100
TZNAME:CET
DTSTART:20251026T010000
END:STANDARD
BEGIN:DAYLIGHT
TZOFFSETFROM:+0100
TZOFFSETTO:+0200
TZNAME:CEST
DTSTART:20260329T010000
END:DAYLIGHT
BEGIN:STANDARD
TZOFFSETFROM:+0200
TZOFFSETTO:+0100
TZNAME:CET
DTSTART:20261025T010000
END:STANDARD
BEGIN:DAYLIGHT
TZOFFSETFROM:+0100
TZOFFSETTO:+0200
TZNAME:CEST
DTSTART:20270328T010000
END:DAYLIGHT
BEGIN:STANDARD
TZOFFSETFROM:+0200
TZOFFSETTO:+0100
TZNAME:CET
DTSTART:20271031T010000
END:STANDARD
END:VTIMEZONE
BEGIN:VEVENT
DTSTART;TZID=Europe/Paris:20260425T200000
DTEND;TZID=Europe/Paris:20260425T213000
DTSTAMP:20260422T033528
CREATED:20260303T154431Z
LAST-MODIFIED:20260410T163815Z
UID:21509-1777147200-1777152600@mop-oullins.fr
SUMMARY:Concert Musiques Slaves
DESCRIPTION:Concert de musiques slaves à Oullins-Pierre-Bénite – Un voyage musical inoubliable à la Maison du Peuple\n\nPlongez dans l’âme de l’Europe de l’Est ! L’école de musique associative Musique O Parc (MoP) vous convie à une soirée d’exception le samedi 25 avril 2026. Ce concert dédié aux musiques slaves promet une immersion sonore vibrante au sein de la Maison du Peuple d’Oullins-Pierre-Bénite. 🎻🌍 \nUn programme riche en émotions et en couleurs\nLaissez-vous transporter par un répertoire soigneusement sélectionné et arrangé par nos compositeurs résidents\, mêlant mélancolie profonde et rythmes effrénés. Des plaines de la Bohème aux montagnes des Balkans\, les élèves et enseignants de la MoP s’unissent pour donner vie aux plus grandes œuvres slaves. \n\nDiversité instrumentale : Cordes\, vents et ensembles vocaux.\nRépertoire : Un mélange subtil de folklore traditionnel et de pièces classiques célèbres.\nAmbiance : Une soirée conviviale ouverte à tous les passionnés de culture et de découvertes musicales.\n\n\nInformations pratiques\nNe manquez pas ce rendez-vous culturel majeur du printemps 2026 dans la métropole lyonnaise. \n\n📅 Date : Samedi 25 avril 2026\n🕖 Heure de début : Début du concert à 20h (ouverture des portes dès 19h30)\n📍 Lieu : Maison du Peuple\, 4 place Jean Jaurès\, 69310 Oullins-Pierre-Bénite\n💶 Entrée Libre dans la limite des places disponibles\n\nRestez connectés !\nPartagez l’événement et confirmez votre présence sur les réseaux sociaux pour ne rien manquer des coulisses de l’organisation : \n👉 Rejoindre l’événement Facebook
URL:https://mop-oullins.fr/evenement/concert-musiques-slaves/
LOCATION:La Maison du Peuple\, 4 place jean jaurès\, Pierre-Bénite\, 69310\, France
ATTACH;FMTTYPE=image/jpeg:https://mop-oullins.fr/wp-content/uploads/2026/03/Concert-slave-_page-0001-scaled.jpg
ORGANIZER;CN="Musique o Parc":MAILTO:secretariat@mop-oullins.fr
END:VEVENT
BEGIN:VEVENT
DTSTART;VALUE=DATE:20260518
DTEND;VALUE=DATE:20260523
DTSTAMP:20260422T033528
CREATED:20260421T182657Z
LAST-MODIFIED:20260421T185344Z
UID:21657-1779062400-1779494399@mop-oullins.fr
SUMMARY:🎶 Portes ouvertes Musique O Parc : Une semaine de fête et de découvertes !
DESCRIPTION:L’école Musique O Parc (MOP Oullins) vous ouvre ses portes pour une semaine exceptionnelle. Du lundi 18 au samedi 23 mai 2026\, venez vibrer au rythme de nos salles de cours et rencontrer nos professeurs passionnés. C’est l’occasion idéale pour confirmer votre souhait d’apprendre la musique ou de faire découvrir un instrument à votre enfant au sein de notre école de musique à Oullins-Pierre-Bénite. \nUn programme riche pour découvrir notre école\nCette année\, nous voyons les choses en grand pour vous accueillir. En effet\, nous ne nous contentons pas de simples visites. Pour vous immerger totalement dans l’ambiance de notre la MOP\, nous organisons plusieurs petits concerts gratuits tout au long de la semaine\, et notamment : \n\nLundi 18h30 : Audition de la classe de Harpe\nJeudi 20h : Concert des ateliers Jazz\nVendredi 20h : Concert libre « Walkin’Bach »\n\nDe cette manière\, vous pourrez : \n\nDécouvrir l’école de l’intérieur dans une ambiance festive.\nÉcouter nos élèves et professeurs lors de performances en direct.\nTester des instruments (vent\, cordes\, percussions) et trouver votre vocation.\n\nPourquoi venir nous voir à la MOP ?\nTout d’abord\, les portes ouvertes sont le moment parfait pour poser vos questions sur les inscriptions. Que vous habitiez Oullins ou les communes voisines\, notre structure est facilement accessible via le réseau TCL (Ligne B du métro\, Bus 63\, C10 et C7). \nEnsuite\, nos mini-concerts gratuits permettent au public extérieur de découvrir la diversité de nos cours. Ainsi\, chaque futur élève peut trouver le style qui lui correspond\, du classique au jazz. N’oubliez pas de consulter notre page sur les instruments pour préparer votre visite. \nEnfin\, c’est le moment idéal pour préparer la rentrée. Par conséquent\, nous vous attendons nombreux pour partager ces moments de complicité. \nPréparez votre rentrée musicale dès maintenant !\nParticiper à nos portes ouvertes\, c’est intégrer une communauté de passionnés. Par conséquent\, nous vous attendons nombreux pour partager ces moments de complicité musicale. \nAlors\, prêt à faire vos premières notes avec nous ?\nRendez-vous dès le 18 mai pour une semaine qui s’annonce déjà inoubliable ! \nN’hésitez pas à nous contacter si vous souhaitez découvrir un instrument particulier !
URL:https://mop-oullins.fr/evenement/portes-ouvertes-musique-oullins-2026/
LOCATION:Musique o Parc\, 44 grande rue\, Oullins\, 69600\, France
ATTACH;FMTTYPE=image/png:https://mop-oullins.fr/wp-content/uploads/2026/03/Semaine-Portes-Ouvertes.png
ORGANIZER;CN="Musique o Parc":MAILTO:secretariat@mop-oullins.fr
END:VEVENT
END:VCALENDAR